BEGIN:VCALENDAR
VERSION:2.0
PRODID:-//jEvents 2.0 for Joomla//EN
CALSCALE:GREGORIAN
METHOD:PUBLISH
BEGIN:VEVENT
UID:df335bed2c25b0bc69e9297f6e63623c
CATEGORIES:Toernooi
CREATED:19700101T010000
SUMMARY:Boarnsterhimtoernooi 2018
DESCRIPTION:Deadline inschrijving dinsdag 29 mei 2018\nHet toernooi wordt gehouden van 
 12 t/m 17 juni 2018, De halve en finales zijn op zondag in Grou. De poules 
 wedstrijden door de week op diverse andere parken. Bij voorkeur niet meer d
 an 3 wedstrijden per team op één dag. Bij elke eventuele derde set wordt er
  een supertiebreak gespeeld. Het team dat dan als eerste 10 punten - met 2 
 verschil - haalt, is winnaar.\nNa het succes van vorig jaar willen we ook n
 u weer 3 sterkte-poules maken:\n- Poule C met beginners en minder goede spe
 lers\n- Poule B met gevorderde spelers\n- Poule A met de beste club-spelers
 \nJe kunt je ook zonder partner opgeven, dan zullen we een partner voor je 
 regelen.\nOpgave via redactie@tvakkrum.nl (mailto:redactie@tvakkrum.nl)\n \
 n
X-ALT-DESC;FMTTYPE=text/html:<p>Deadline inschrijving dinsdag 29 mei 2018</p><p>Het toernooi wordt gehou
 den van 12 t/m 17 juni 2018, De halve en finales zijn op zondag in Grou.&nb
 sp;De poules wedstrijden door de week op diverse andere parken.&nbsp;Bij vo
 orkeur niet meer dan 3 wedstrijden per team op één dag.&nbsp;Bij elke event
 uele derde set wordt er een supertiebreak gespeeld.&nbsp;Het team dat dan a
 ls eerste 10 punten - met 2 verschil - haalt, is winnaar.</p><p>Na het succ
 es van vorig jaar willen we ook nu weer 3 sterkte-poules maken:</p><p>- Pou
 le C met beginners en minder goede spelers<br />- Poule B met gevorderde sp
 elers<br />- Poule A met de beste club-spelers</p><p>Je kunt je ook zonder 
 partner opgeven, dan zullen we een partner voor je regelen.</p><p>Opgave vi
 a <a href="mailto:redactie@tvakkrum.nl">redactie@tvakkrum.nl</a></p><p>&nbs
 p;</p>
DTSTAMP:20260421T152528
DTSTART:20180612T160000
DTEND:20180612T210000
SEQUENCE:0
RRULE:FREQ=DAILY;COUNT=5;INTERVAL=1
TRANSP:OPAQUE
END:VEVENT
END:VCALENDAR