BEGIN:VCALENDAR
VERSION:2.0
PRODID:-//jEvents 2.0 for Joomla//EN
CALSCALE:GREGORIAN
METHOD:PUBLISH
BEGIN:VEVENT
UID:03b05bb6dbeb90af7ebd1215e0813c09
CATEGORIES:Toernooi
CREATED:20210815T161641
SUMMARY:Start Wintercompetitie zondag
DESCRIPTION:
DTSTAMP:20260421T120014
DTSTART:20211107T090000
DTEND:20211107T160000
SEQUENCE:0
TRANSP:OPAQUE
END:VEVENT
END:VCALENDAR