BEGIN:VCALENDAR
VERSION:2.0
PRODID:-//jEvents 2.0 for Joomla//EN
CALSCALE:GREGORIAN
METHOD:PUBLISH
BEGIN:VEVENT
UID:89eae453f2069d74ceb71bc4a0009822
CATEGORIES:Toernooi
CREATED:20250226T141816
SUMMARY:Boarnsterhimtoernooi 2025
DESCRIPTION:Na vijf jaar wordt het Boarnsterhimtoernooi in 2025 voor het eerst weer geo
 rganiseerd.\nDe wedstrijden worden gespeeld in de categorieën herendubbel, 
 damesdubbel en de mix.\nDeelnemende vereniging zijn Tennisclub Oldeboorn ui
 t Aldeboarn, Tennisvereniging Akkrum, Tennisvereniging Grouw uit Grou, Tenn
 isvereniging Raerd, Tennisvereniging Warten, Tennisvereniging Eernum uit Jo
 rnsum,\nTennisvereniging Stânfries uit Reduzum en Tennisvereniging Warga ui
 t Wergea.\n
X-ALT-DESC;FMTTYPE=text/html:<p>Na vijf jaar wordt het Boarnsterhimtoernooi in 2025 voor het eerst weer 
 georganiseerd.</p><p>De wedstrijden worden gespeeld in de categorieën heren
 dubbel, damesdubbel en de mix.</p><p>Deelnemende vereniging zijn Tennisclub
  Oldeboorn uit Aldeboarn, Tennisvereniging Akkrum,&nbsp;Tennisvereniging Gr
 ouw uit Grou,&nbsp;Tennisvereniging Raerd,&nbsp;Tennisvereniging Warten, Te
 nnisvereniging Eernum uit Jornsum,<br />Tennisvereniging Stânfries uit Redu
 zum en Tennisvereniging Warga uit Wergea.</p>
DTSTAMP:20260421T133152
DTSTART;VALUE=DATE:20250618
DTEND;VALUE=DATE:20250623
SEQUENCE:0
TRANSP:OPAQUE
END:VEVENT
END:VCALENDAR